BEGIN:VCALENDAR
VERSION:2.0
PRODID:Events Booking
BEGIN:VEVENT
UID:69ebea2b548a9
SUMMARY:The Central Mississippi 2019 PDD 
DESCRIPTION:Project Management Delivers.....(In) Sanity Amongst Chaos
 Thi
 s year’s theme for 2019 Professional Development Day “Project Manageme
 nt Delivers.....(In) Sanity Amongst Chaos” offers a dual meaning for all
  of us as project managers.
 This event provides opportunities for practi
 tioners and those interested in the profession to learn new skills\, enhan
 ce existing knowledge and skills and to network and learn from others who 
 work in project management.
 We have an exciting and diverse group of pre
 senters this year\, and we welcome their experience and knowledge as we gr
 ow together\, expanding the influence of project management in our communi
 ties!&nbsp\; Keep a lookout for more details as we get closer to the day!
LOCATION:1200 N State St\, Jackson\, MS 39202\, USA
DTSTART:20190927T130000Z
DTEND:20190927T220000Z
DTSTAMP:20260424T220947Z
ORGANIZER;CN=PMI Central Mississippi Chapter:MAILTO:vpfinance@pmicms.org
GEO:32.314436;-90.177814
X-APPLE-STRUCTURED-LOCATION;VALUE=URI;X-ADDRESS=1200 N State St\, Jackson\,
  MS 39202\, USA;X-APPLE-RADIUS=72;X-TITLE=The Manship:32.314436;-90.177814
END:VEVENT
END:VCALENDAR