BEGIN:VCALENDAR
VERSION:2.0
PRODID:Events Booking
BEGIN:VEVENT
UID:69ed25c477d33
SUMMARY:The Central Mississippi 2018 PDD
DESCRIPTION:Project Management Builds Community
 This year’s theme for 2
 018 Professional Development Day\, “Project Management Builds Community
 ”\, offers a dual meaning for all of us as project managers.&nbsp\; Firs
 t\, project management practices are used in every type of endeavor\, whet
 her it be for education\, transportation\, culture\, economic development\
 , or health - to name only a few.&nbsp\; Secondly\, project management bui
 lds a strong community of skilled project managers who not only understand
  the processes but also come together to network and strengthen their impa
 ct as an industry.
LOCATION:1200 N State St\, Jackson\, MS 39202\, USA
DTSTART:20180921T130000Z
DTEND:20180921T220000Z
DTSTAMP:20260425T203620Z
ORGANIZER;CN=PMI Central Mississippi Chapter:MAILTO:vpfinance@pmicms.org
GEO:32.314436;-90.177814
X-APPLE-STRUCTURED-LOCATION;VALUE=URI;X-ADDRESS=1200 N State St\, Jackson\,
  MS 39202\, USA;X-APPLE-RADIUS=72;X-TITLE=The Manship:32.314436;-90.177814
END:VEVENT
END:VCALENDAR