BEGIN:VCALENDAR
VERSION:2.0
PRODID:Events Booking
BEGIN:VEVENT
UID:69ea6b5357e15
SUMMARY:PMICMS Annual Business Meeting 2020
DESCRIPTION:
DTSTART:20201215T173000Z
DTEND:20201215T183000Z
DTSTAMP:20260423T185619Z
ORGANIZER;CN=PMI Central Mississippi Chapter:MAILTO:vpfinance@pmicms.org
END:VEVENT
END:VCALENDAR