BEGIN:VCALENDAR
VERSION:2.0
PRODID:Events Booking
BEGIN:VEVENT
UID:69e8993d691e7
SUMMARY:October 2022 Lunch Meeting
DESCRIPTION:Speaker&nbsp\;– Dr. Jimmy Abraham
 Topic&nbsp\;–&nbsp\;\"N
 othing is Routine when Dealing with the Lives of Others\"
 Synopsis - Sev
 eral of our members know and love&nbsp\;Dr. Jimmy Abraham and requested th
 at he speak at one of our meetings!&nbsp\;&nbsp\;Please join us as we list
 en to his motivational stories surrounding topics of Customer Service\, Em
 powerment\, Servant Leadership\, and Team Building.&nbsp\; If you want to 
 improve your interpersonal skills\, join us for our October lunch meeting!
  We'll be in person and have time for networking with your fellow PMs and 
 Q&amp\;A with Dr. Abraham.
 Location -&nbsp\;Scrooge's Restaurant
 Date 
 - 10/18/2022
 Time - 11:30 AM
 &nbsp\;For more information\, visit&nbsp\
 ;https://drjimmyabraham.com/&nbsp\;
DTSTART:20221018T163000Z
DTEND:20221018T174500Z
DTSTAMP:20260422T094741Z
ORGANIZER;CN=PMI Central Mississippi Chapter:MAILTO:vpfinance@pmicms.org
END:VEVENT
END:VCALENDAR