BEGIN:VCALENDAR
VERSION:2.0
PRODID:Events Booking
BEGIN:VEVENT
UID:69e990512378e
SUMMARY:October 2021 Online Chapter Meeting
DESCRIPTION:The Seven Attributes of Excellent Project ManagementBalance is 
 important to everything in life from riding a bike\, exercising\, eating r
 ight\, to dealing with people and having a balanced personal life. In Proj
 ect Management\, we must balance time\, cost\, resources\, and requirement
 s\, among other things.&nbsp\;&nbsp\;Our speaker this month will help us t
 o understand the Seven Attributes of Excellent Project Management and in w
 hat order to apply them.&nbsp\; Click Register to join us!
DTSTART:20211019T163000Z
DTEND:20211019T175000Z
DTSTAMP:20260423T032153Z
ORGANIZER;CN=PMI Central Mississippi Chapter:MAILTO:vpfinance@pmicms.org
END:VEVENT
END:VCALENDAR