BEGIN:VCALENDAR
VERSION:2.0
PRODID:Events Booking
BEGIN:VEVENT
UID:69e8728639313
SUMMARY:November 2022 Lunch Meeting
DESCRIPTION:Topic:&nbsp\;SCRUM Project with Waterfall ReportingSpeaker:&nbs
 p\;Tim Meeks\, PMP\, SAFe SM/PO\, SA-CSM
 Synopsis:&nbsp\;&nbsp\;Problem:
  You’re managing an Agile Scrum Project but the project sponsor wants a 
 project status with timelines\, percent complete and delivery date. How do
  you capture this data and present it? What are some challenges to overcom
 e? What are some tools or processes that may assist with this?Solution: Le
 arn how to run a project in Agile Scrum while providing status updates in 
 a traditional (waterfall) fashion to better align with the customer’s wo
 rking style.Location:&nbsp\;&nbsp\;Anjou Restaurant\,&nbsp\;361 Township A
 ve\, Ridgeland\, MS 39157Date:&nbsp\;&nbsp\;Tuesday\, 11/15/2022Time:&nbsp
 \;&nbsp\;11:30 AM - 12:30 PM CDTCost:&nbsp\;&nbsp\;$25 PMI CMS Members\, $
 30 Non-membersTalent Triangle Area:&nbsp\; Technical Project ManagementTar
 get Audience:&nbsp\;Project Managers\, Scrum Masters\, Agile Practitioners
  PDUs:&nbsp\; 1
 &nbsp\;
LOCATION:Township Ave\, Ridgeland\, MS 39157\, USA
DTSTART:20221115T173000Z
DTEND:20221115T184500Z
DTSTAMP:20260422T070230Z
ORGANIZER;CN=PMI Central Mississippi Chapter:MAILTO:vpfinance@pmicms.org
GEO:32.443592;-90.152119
X-APPLE-STRUCTURED-LOCATION;VALUE=URI;X-ADDRESS=Township Ave\, Ridgeland\, 
 MS 39157\, USA;X-APPLE-RADIUS=72;X-TITLE=Anjou Restaurant:32.443592;-90.15
 2119
END:VEVENT
END:VCALENDAR