BEGIN:VCALENDAR
VERSION:2.0
PRODID:Events Booking
BEGIN:VEVENT
UID:69e9788108fbf
SUMMARY:November 2021 Online Chapter Meeting
DESCRIPTION:Bad Bosses&nbsp\;&nbsp\;…and how to work through themIf&nbsp\
 ;you’ve&nbsp\;ever&nbsp\;suffered&nbsp\;under&nbsp\;a&nbsp\;bad&nbsp\;bo
 ss\,&nbsp\;you&nbsp\;probably&nbsp\;wondered&nbsp\;what&nbsp\;you&nbsp\;di
 d&nbsp\;to&nbsp\;deserve&nbsp\;such&nbsp\;torture.&nbsp\;Bad&nbsp\;bosses&
 nbsp\;have&nbsp\;always&nbsp\;been&nbsp\;a&nbsp\;problem&nbsp\;in&nbsp\;th
 e&nbsp\;workplace\,&nbsp\;and&nbsp\;with&nbsp\;the&nbsp\;rise&nbsp\;in&nbs
 p\;remote&nbsp\;workers\,&nbsp\;the&nbsp\;problem&nbsp\;will&nbsp\;actuall
 y&nbsp\;get&nbsp\;worse.&nbsp\;Ryan&nbsp\;Haag\,&nbsp\;who&nbsp\;has&nbsp\
 ;lived&nbsp\;through&nbsp\;more&nbsp\;than&nbsp\;his&nbsp\;fair&nbsp\;shar
 e&nbsp\;of&nbsp\;bad&nbsp\;bosses\,&nbsp\;discusses&nbsp\;strategies&nbsp\
 ;for&nbsp\;dealing&nbsp\;with&nbsp\;them&nbsp\;in&nbsp\;this&nbsp\;webinar
 .&nbsp\;He&nbsp\;looks&nbsp\;behind&nbsp\;the&nbsp\;scenes&nbsp\;at&nbsp\;
 what&nbsp\;makes&nbsp\;a&nbsp\;bad&nbsp\;boss\,&nbsp\;how&nbsp\;you&nbsp\;
 identify&nbsp\;them\,&nbsp\;and&nbsp\;how&nbsp\;you&nbsp\;find&nbsp\;ways&
 nbsp\;to&nbsp\;survive&nbsp\;and&nbsp\;work&nbsp\;under&nbsp\;them.&nbsp\;
 Ryan&nbsp\;also&nbsp\;shows&nbsp\;how&nbsp\;to&nbsp\;exit&nbsp\;from&nbsp\
 ;a&nbsp\;bad&nbsp\;boss&nbsp\;without&nbsp\;getting&nbsp\;burned&nbsp\;in&
 nbsp\;the&nbsp\;process.
 
 
DTSTART:20211117T000000Z
DTEND:20211117T012500Z
DTSTAMP:20260423T014017Z
ORGANIZER;CN=PMI Central Mississippi Chapter:MAILTO:vpfinance@pmicms.org
END:VEVENT
END:VCALENDAR