BEGIN:VCALENDAR
VERSION:2.0
PRODID:Events Booking
BEGIN:VEVENT
UID:69ecaa2fafc02
SUMMARY:Networking Event
DESCRIPTION:This event will provide you the opportunity to meet with projec
 t management professionals from a diverse group of industries as well as t
 o share your thoughts with chapter leadership on how we can better serve o
 ur community.
 This event will be held at Biaggi’s in Ridgeland. (addre
 ss below....add address) We have reserved a Private Room and will be provi
 ding heavy&nbsp\;hors-d'oeuvres&nbsp\;and non-alcoholic beverages. These a
 re included in your registration fee. For those interested in an adult bev
 erage\, Biaggi’s has a cash bar to serve the libation of your choice.&nb
 sp\; You can preregister here or day&nbsp\;of&nbsp\;at the restaurant. The
  day of registration will be from&nbsp\;5:30pm&nbsp\;-&nbsp\;6:00pm.&nbsp\
 ;The chapter president\, Libby Cajoles\, will provide a brief introduction
 / welcome at&nbsp\;6pm&nbsp\;and we’ll wrap up the PMI portion of the ne
 tworking at&nbsp\;7:15pm.&nbsp\;We're pretty sure Biaggi's would have no o
 bjections to those wishing to continue conversations later in the lounge.
 
 The cost of attendance&nbsp\;is $15 for members and $20 for non-members.
 
 No will be PDUs awarded for this event.
 Cash bar avaliable for alcoho
 lic drinks.
 Limited to 25 attendees.
 Come join us for some great netwo
 rking!&nbsp\;
 We look forward to seeing you there.&nbsp\;
LOCATION:970 Highland Colony Pkwy\, Ridgeland\, MS 39157\, USA
DTSTART:20190219T233000Z
DTEND:20190220T010000Z
DTSTAMP:20260425T114903Z
ORGANIZER;CN=PMI Central Mississippi Chapter:MAILTO:vpfinance@pmicms.org
GEO:32.431937;-90.148144
X-APPLE-STRUCTURED-LOCATION;VALUE=URI;X-ADDRESS=970 Highland Colony Pkwy\, 
 Ridgeland\, MS 39157\, USA;X-APPLE-RADIUS=72;X-TITLE=Biaggi's:32.431937;-9
 0.148144
END:VEVENT
END:VCALENDAR