BEGIN:VCALENDAR
VERSION:2.0
PRODID:Events Booking
BEGIN:VEVENT
UID:69e8f1d3d8375
SUMMARY:May 2022 Online Chapter Meeting (2)
DESCRIPTION:Topic:&nbsp\;Entergy Major Project SuccessSpeaker:&nbsp\;Scott 
 Armando - Director\, Project Engineering at Entergy
 
 Location:&nbsp\; 
 Online Meeting&nbsp\;(Zoom)Date:&nbsp\; Tuesday\, 5/17/2022Time:&nbsp\; 11
 :30 AM - 12:30 PM CDTCost:&nbsp\; FreePDUs:&nbsp\; 1Description:Scott will
  deliver a talk on \"Entergy Major Project Success\"
DTSTART:20220517T163000Z
DTEND:20220517T175000Z
DTSTAMP:20260422T160539Z
ORGANIZER;CN=PMI Central Mississippi Chapter:MAILTO:vpfinance@pmicms.org
END:VEVENT
END:VCALENDAR