BEGIN:VCALENDAR
VERSION:2.0
PRODID:Events Booking
BEGIN:VEVENT
UID:69e9f71031918
SUMMARY:May 2021 Online Chapter Meeting
DESCRIPTION:Project Management It’s as easy as pie (pizza)In this session
  PMO Joe will compare and contrast delivering a project with making a pizz
 a to help us all learn how to simplify and successfully deliver projects\,
  with pepperoni or not.
DTSTART:20210518T163000Z
DTEND:20210518T175000Z
DTSTAMP:20260423T104016Z
ORGANIZER;CN=PMI Central Mississippi Chapter:MAILTO:vpfinance@pmicms.org
END:VEVENT
END:VCALENDAR