BEGIN:VCALENDAR
VERSION:2.0
PRODID:Events Booking
BEGIN:VEVENT
UID:69e8149a8bb61
SUMMARY:March 2023 Online Chapter Meeting
DESCRIPTION:(Click the event title above for more details.)Topic:&nbsp\;Man
 aging Multiple ProjectsSpeaker:&nbsp\;Guy Grindborg\,&nbsp\;PMP\, MoP\, BR
 MP
 Location:&nbsp\; Online Meeting&nbsp\;(Zoom)Date:&nbsp\;&nbsp\;Tuesda
 y\, 3/28/2023Time:&nbsp\;&nbsp\;6:00 PM - 7:00 PM CDTCost:&nbsp\; FreePDUs
 :&nbsp\; 1Background:Guy Grindborg is a project management professional wi
 th more than 30 years of experience\, having managed a wide variety of pro
 jects across the globe. Guy has trained and coached professionals in most 
 areas within Project\, Program\, and Portfolio Management\, PMP Certificat
 ion\, MoP Certification\, and Leadership Skills. He utilizes his extensive
  knowledge and expertise to motivate teams to succeed.
DTSTART:20230328T230000Z
DTEND:20230329T001500Z
DTSTAMP:20260422T002146Z
ORGANIZER;CN=PMI Central Mississippi Chapter:MAILTO:vpfinance@pmicms.org
END:VEVENT
END:VCALENDAR