BEGIN:VCALENDAR
VERSION:2.0
PRODID:Events Booking
BEGIN:VEVENT
UID:69e8153b55ab7
SUMMARY:Leadership & Innovation 2023 Online Conference
DESCRIPTION:
 
 
 
 
 
 
 
 
 Earn up to 26 PDUs | Get 90 Days Acc
 ess |&nbsp\;2 free OD Courses&nbsp\;| IPM Day 2023 Free 
 Use code&nbsp\;
 PMICMS for a $15 Discount. Visit your partner site to register here. &nbsp
 \;
 This online conference brings you an exhilarating lineup of influenti
 al thought leaders\, authors\, and experts in a must-see program that incl
 udes&nbsp\;Johnny C Taylor\, Jr.\, SHRM-SCP President &amp\; CEO: Society 
 of Human Resources Management (SHRM) on Reset: A Leader’s Guide to Work 
 in an Age of Upheaval\; Dr. Marshall Goldsmith&nbsp\;on his NY Times bests
 elling book\, The Earned Life\; as well as Dr. Elissa Farrow on future lea
 dership in the context of&nbsp\;Artificial Intelligence\;&nbsp\;James &amp
 \; Krista White on the importance of inclusive leadership\; Nelly Wilson f
 rom Google&nbsp\;on how to attract and retain top talent… and so many mo
 re!
 
 
 
 
 
 
 
 
 
 
 
 
 
 
 
 
 
 
 
 
 View all
  our keynote speakers and presenters here
 
 
 
 
 
 
 
 
 
 
 
 
 
 Link to register: https://bit.ly/3GCffep
 
 
 
 
 
 
 
 
 C
 heck out what others are saying!
 ·&nbsp\;&nbsp\;&nbsp\;&nbsp\;&nbsp\;&n
 bsp\;&nbsp\;&nbsp\; “IIL does a great job putting together these events 
 several times a year. The reasonable price\, the opportunities for additio
 nal training\, and the ability to review the sessions for a few months aft
 erwards make this an event I always find time to attend.”
 ·&nbsp\;&nb
 sp\;&nbsp\;&nbsp\;&nbsp\;&nbsp\;&nbsp\;&nbsp\; “This conference is my fa
 vorite of all of them offered in the industry. I find it to be very reason
 ably priced and full of added value. Thank you!”
 ·&nbsp\;&nbsp\;&nbsp
 \;&nbsp\;&nbsp\;&nbsp\;&nbsp\;&nbsp\; “Excellent information and insight
 s that can be immediately leveraged in our constantly changing environment
 .”
 We hope to see you March 2nd!  Questions? Please Contact Barry.Milh
 aven@iil.com or call 212-515-5142.
 
 
 
 
 
 
 
 
 Did you know 
 that as a PMI Chapter Advantage Program Member you get 30% off PMI ATP Cer
 tification Courses\, plus 15% off all IIL Courses?Additional chapter benef
 its are Free White Papers\, Free Webinars\, and so much more! Click here&n
 bsp\;or contact your Educational Consultant andrea.johnson@iil.com
 
 

  
 
 &nbsp\;
 
 
 
 
 
 
 
 
 
 
 
LOCATION:Online
DTSTART:20230302T140000Z
DTEND:20230302T230000Z
DTSTAMP:20230225T225405Z
ORGANIZER;CN=PMI Central Mississippi Chapter:MAILTO:vpfinance@pmicms.org
END:VEVENT
END:VCALENDAR