BEGIN:VCALENDAR
VERSION:2.0
PRODID:Events Booking
BEGIN:VEVENT
UID:69e9e1434c33f
SUMMARY:June 2021 Online Chapter Meeting
DESCRIPTION:Blockchain Technology in Project Management
 
 
 Join us for
  a discussion on how Blockchain technology can be used for governing proje
 ct contract automation by maintaining a tamper-proof transactional record 
 of project progress.&nbsp\; Watch as we discuss&nbsp\;a sample constructio
 n project contract automation using Blockchain networks utilizing the Hype
 rledger Fabric platform.
 
 
DTSTART:20210615T163000Z
DTEND:20210615T175000Z
DTSTAMP:20260423T090715Z
ORGANIZER;CN=PMI Central Mississippi Chapter:MAILTO:vpfinance@pmicms.org
END:VEVENT
END:VCALENDAR