BEGIN:VCALENDAR
VERSION:2.0
PRODID:Events Booking
BEGIN:VEVENT
UID:69eb05403b1a7
SUMMARY:June 2020 Lunch Meeting 
DESCRIPTION:
 
 
 
 
 
 
 
 
 
 
 Speaker: Monte Luehlfing\, DHA
 \, PMP&nbsp\; &nbsp\; &nbsp\; &nbsp\;
 Speaker: Fremel Backus\, MHIIM
 
 
 
 
 &nbsp\;
 Topic&nbsp\;– Project Management Lesson from \"The Spe
 ed of Trust\" by Stephen M.R. Covey (with Rebecca R. Merrill)
 Synopsis -
  Trust can be defined as confidence\, faith\, or belief. Trust is a key co
 mponent to successful projects. Monte and Fremel will discuss elements and
  techniques of trust based on the book The Speed of Trust by Stephen M.R. 
 Covey with Rebecca R. Merrill. These trust topics can be used in project m
 anagement.
 Objectives
 
 Define trust in relation to how it affects pr
 oject team performance
 Identify key components of trust
 Apply trust le
 ssons learned to your project management toolbox
 
 Location -&nbsp\;Onl
 ine Webcast
 Date:&nbsp\; Wednesday 6/17/2020
 Time:&nbsp\; 11:30 AM - 1
 2:45 PM
 Online Payment Only - You will be emailed your attendee informat
 ion after registration
 All proceeds for this event will go towards suppo
 rting the Mississippi Food Network.
 &nbsp\;
 &nbsp\;Disclaimer: The vie
 ws and opinions stated in this presentation are our personal views and are
  not those of any organization with which we are affiliated.
LOCATION:Online
DTSTART:20200617T163000Z
DTEND:20200617T174500Z
DTSTAMP:20260424T055304Z
ORGANIZER;CN=PMI Central Mississippi Chapter:MAILTO:vpfinance@pmicms.org
END:VEVENT
END:VCALENDAR