BEGIN:VCALENDAR
VERSION:2.0
PRODID:Events Booking
BEGIN:VEVENT
UID:69e8c39e18340
SUMMARY:July 2022 Online Chapter Meeting
DESCRIPTION:Topic:&nbsp\;Agile Practices for All ProjectsSpeaker:&nbsp\;Ste
 phen Blais
 
 Location:&nbsp\; Online Meeting&nbsp\;(Zoom)Date:&nbsp\;&n
 bsp\;Tuesday\, 7/19/2022Time:&nbsp\; 11:00 AM - 12:00 PM CDTCost:&nbsp\; F
 reePDUs:&nbsp\; 1Description:
 Steven is a Project Management Professiona
 l\, Instructor\, Consultant\, Writer\, and Coach with over 50 years of exp
 erience in technology management\, consulting\, and marketing positions. H
 e specializes in the design and installation of business-oriented accounti
 ng systems and databases for commercial and government clients in the dist
 ributed environment. Steven has a reputation for on-time\, on-budget deliv
 ery of high-quality software products as well as great communication and i
 nterpersonal skills.
 
DTSTART:20220719T160000Z
DTEND:20220719T170000Z
DTSTAMP:20260422T124830Z
ORGANIZER;CN=PMI Central Mississippi Chapter:MAILTO:vpfinance@pmicms.org
END:VEVENT
END:VCALENDAR