BEGIN:VCALENDAR
VERSION:2.0
PRODID:Events Booking
BEGIN:VEVENT
UID:69e9d00010ee0
SUMMARY:July 2021 Online Chapter Meeting
DESCRIPTION:An Atomic Approach to Change Management
 
 
 Join us for an 
 energy-filled evening learning how UMMC navigated change management while 
 building and activating a state-of-the-art 355\,000 square foot children's
  hospital.
 
 
DTSTART:20210720T230000Z
DTEND:20210721T003000Z
DTSTAMP:20260423T075336Z
ORGANIZER;CN=PMI Central Mississippi Chapter:MAILTO:vpfinance@pmicms.org
END:VEVENT
END:VCALENDAR