BEGIN:VCALENDAR
VERSION:2.0
PRODID:Events Booking
BEGIN:VEVENT
UID:69eaec6f28197
SUMMARY:July 2020 Lunch Meeting
DESCRIPTION:
 
 
 
 &nbsp\;
 
 
 
 
 
 
 Speaker:&nbsp\;Dave Hol
 lingsworth&nbsp\;
 Speaker: Steve Waite
 
 
 
 &nbsp\;
 Topic&nbsp\;
 – Rivalry Saturday:&nbsp\;An Odyssey Inside College Football’s Most St
 oried Games
 Synopsis -&nbsp\;Everything is a project\, even your dreams.
  In 2004 - 2005\, Steve and Dave went on an odyssey inside college footbal
 l’s most storied games. This ultimate road trip included 39\,000+ miles\
 , 14 weekends\, 18 top rivalry games\, and the National Championship Game.
  The end result was a great book entitled\, Rivalry Saturday:&nbsp\;An Ody
 ssey Inside College Football’s Most Storied Games. Obviously\, this expe
 dition and book took many hours of planning and execution. During this mon
 th’s meeting\, Dave and Steve will discuss the planning and strategic de
 tails of their Rivalry Saturday journey.
 Location -&nbsp\;Online Webcast
 
 Date:&nbsp\; Tuesday 7/21/2020
 Time:&nbsp\; 11:30 AM - 12:45 PM
 Onl
 ine Payment Only - You will be emailed your attendee information after reg
 istration.All proceeds for this event will go towards supporting Goodwill 
 Industries of Mississippi.
 &nbsp\;
 &nbsp\;
DTSTART:20200721T163000Z
DTEND:20200721T174500Z
DTSTAMP:20260424T040711Z
ORGANIZER;CN=PMI Central Mississippi Chapter:MAILTO:vpfinance@pmicms.org
END:VEVENT
END:VCALENDAR