BEGIN:VCALENDAR
VERSION:2.0
PRODID:Events Booking
BEGIN:VEVENT
UID:69e84507e4a19
SUMMARY:January 2023 Online Chapter Meeting (2)
DESCRIPTION:Topic:&nbsp\;Can Microsoft® Project Be Used for AgileSpeaker:&
 nbsp\;Dr. Bob Barnes
 Location:&nbsp\; Online Meeting&nbsp\;(Zoom)Date:&n
 bsp\;&nbsp\;Tuesday\, 1/17/2023Time:&nbsp\;&nbsp\;6:00 PM - 7:00 PM CDTCos
 t:&nbsp\; FreePDUs:&nbsp\; 1Background:Dr. Barnes is a to-the-point\, prac
 tical consultant\, mentor\, facilitator\, and trainer. His international c
 areer spans over 30 years in industry: health\, care\, and quality\; manuf
 acturing\; banking\, finance\, and accounting\; transportation\; informati
 on technology\; and electric\, gas\, and water utilities among numerous ot
 hers. He was among the first to both advocate and facilitate the integrati
 on of agile principles and practices across executive and operational leve
 ls ensuring greater client focus\, faster time to market\, higher revenue 
 growth\, lower costs\, and an engaged workforce.
DTSTART:20230118T000000Z
DTEND:20230118T014500Z
DTSTAMP:20260422T034823Z
ORGANIZER;CN=PMI Central Mississippi Chapter:MAILTO:vpfinance@pmicms.org
END:VEVENT
END:VCALENDAR