BEGIN:VCALENDAR
VERSION:2.0
PRODID:Events Booking
BEGIN:VEVENT
UID:69e9498151dbc
SUMMARY:January 2022 Online Chapter Meeting
DESCRIPTION:Topic: PMBOK Guide 7th EditionSpeaker: Joseph Tierney
 
 
 L
 ocation:&nbsp\; Online Meeting&nbsp\;(Zoom)Date:&nbsp\;&nbsp\;Tuesday\, 11
 /18/2021Time:&nbsp\; 6:00 PM - 7:25 PM CDTCost:&nbsp\; FreeFor the past de
 cade\, Joe has presented over 400 PMP examination preparatory and other ma
 nagement&nbsp\;and leadership courses. Joe has been honored to teach extra
 ordinary leaders including US Navy Special&nbsp\;Forces EOD Group One comm
 and. Joe is also honored to be amongst PMI's first Authorized Training&nbs
 p\;Provider Certified PMP Instructor.&nbsp\;&nbsp\;
 Joe has led hundreds
  of IT infrastructure projects for the Global Credit Card and Retail Servi
 ces&nbsp\;Headquarters for HSBC. As an executive board member of the Monte
 rey Bay Area Council Boy Scouts of&nbsp\;America\, Joe has led various adu
 lt Train the Trainer events including The University of Scouting &amp\; Ex
 po.&nbsp\;&nbsp\;
 Joe has written articles for AXELOS\, a UK-based joint
  venture organization. Topics included addressing&nbsp\;the compatibility 
 of AXELOS' PRINCE2 with PMI's PMBOK Guide.&nbsp\; In addition to his PMP\,
  Joe holds a Master of Science degree in Information Systems Management fr
 om&nbsp\;the University of Liverpool.&nbsp\;&nbsp\;
 Joe currently serves
  as a senior instructor for PMtraining.com. Joe lives with his family in Y
 reka\,&nbsp\;California.
DTSTART:20220119T000000Z
DTEND:20220119T012500Z
DTSTAMP:20260422T221945Z
ORGANIZER;CN=PMI Central Mississippi Chapter:MAILTO:vpfinance@pmicms.org
END:VEVENT
END:VCALENDAR