BEGIN:VCALENDAR
VERSION:2.0
PRODID:Events Booking
BEGIN:VEVENT
UID:69e82a598cb0c
SUMMARY:February 2023 Lunch Meeting
DESCRIPTION:Topic:&nbsp\;The Importance&nbsp\;of Internal Project Organizat
 ionSpeaker:&nbsp\;Erica Fell\, PMP
 Synopsis:Your company has JUST won a 
 major contract and everyone is excited to get started. Your grant was rene
 wed with your client for another year and you need to extend your bandwidt
 h with employees or even add new employees.&nbsp\;
 The eagerness to hit 
 the ground running is a mutual feeling amongst all in the organization\, h
 owever\, there is one thing standing between stop and go\, Standard Operat
 ing Procedures (SOP).&nbsp\;
 We will cover Standard Operating Procedures
  as the foundation of securing your organizational structure\, trust and s
 tability with your current clients and makes for a sound partnership for f
 uture clients and employees.
 Location:&nbsp\;&nbsp\;Anjou Restaurant\,&n
 bsp\;361 Township Ave\, Ridgeland\, MS 39157Date:&nbsp\;&nbsp\;Tuesday\, 2
 /28/2023Time:&nbsp\;&nbsp\;11:30 AM - 12:30 PM CDTCost:&nbsp\;&nbsp\;$25 P
 MI CMS Members\, $30 Non-membersTalent Triangle Area:&nbsp\; Technical Pro
 ject ManagementTarget Audience:&nbsp\;Project ManagersPDUs:&nbsp\; 1&nbsp\
 ;
DTSTART:20230228T173000Z
DTEND:20230228T184500Z
DTSTAMP:20260422T015433Z
ORGANIZER;CN=PMI Central Mississippi Chapter:MAILTO:vpfinance@pmicms.org
END:VEVENT
END:VCALENDAR