BEGIN:VCALENDAR
VERSION:2.0
PRODID:Events Booking
BEGIN:VEVENT
UID:69e93531f19bc
SUMMARY:February 2022 Online Chapter Meeting
DESCRIPTION:
 Topic:&nbsp\;Leverage PMI Certifications Support Careers and
  CompaniesSpeaker: Andy Burns
 
 Location:&nbsp\; Online Meeting&nbsp\;(
 Zoom)Date:&nbsp\;&nbsp\;Tuesday\, 2/15/2022Time:&nbsp\; 6:00 PM - 8:00 PM 
 CDTCost:&nbsp\; FreePDUs:&nbsp\; 2&nbsp\; (for 2 hours)Description:Certifi
 cations are everywhere. All are not equal! The Project Management Institut
 e (PMI) offers certifications that stand out by affirming experience\, exe
 cution ability\, and an earnest commitment to being a lifelong learner.
 
 Agility entered the PMI canon in-force two decades ago with the inaugural 
 Agile Certified Practitioner certification. This generalist certification 
 surveys the breadth of agile frameworks and toolkits.&nbsp\;&nbsp\;The PMI
 -ACP&nbsp\;prepares all to see agile with pragmatism guided by stated proc
 ess agnosticism\, “Tailor the Process! One size doesn’t fit all!”&nb
 sp\;PMI now recognizes distinguished Agile specialty roles with Discipline
 d Agile.
 The PMI certification suite (including the Agile certification 
 suite) is ready to support digital transformations of any size.&nbsp\;&nbs
 p\;Come to this session to join a simulation planning the training and PMI
  certifications to support a digital transformation at a large company.
 
 The session will be a live-virtual working session.&nbsp\;&nbsp\;The tools
  used will be Zoom and Miro (an online virtual environment).&nbsp\;&nbsp\;
 Attending on a two-screen setup with a mouse and investing one hour in exp
 loring the online virtual environment at Miro.com is recommended.&nbsp\;&n
 bsp\;Miro tutorials are available there for free.
DTSTART:20220216T000000Z
DTEND:20220216T022500Z
DTSTAMP:20260422T205305Z
ORGANIZER;CN=PMI Central Mississippi Chapter:MAILTO:vpfinance@pmicms.org
END:VEVENT
END:VCALENDAR