BEGIN:VCALENDAR
VERSION:2.0
PRODID:Events Booking
BEGIN:VEVENT
UID:69eb6ce15018a
SUMMARY:February 2020 Dinner Meeting
DESCRIPTION:Speaker: Denise Morgan\, RN\, MSM\, PMP\, Six Sigma Green BeltT
 opic:&nbsp\;Discuss the fundamentals of team building and best practice fo
 r building successful teams
 Location: Sophomore Spanish Club\,&nbsp\; Ja
 ckson MS
 Registration opens at 5:30PM\, Business at 6:00PM\, followed by
  the Program at 6:15PM.Cost: $30 for Non-Members\; $25 for Members\; $30 f
 or all at the door.Update: 2/17/2020Max Registrations: 35\, updated from 2
 5.Cash Bar for alcohol will be available with valid ID.
 Please pre-regis
 ter as soon as possible!We look forward to seeing you there!
 *Members:&n
 bsp\; Please be sure to login to the website\, prior to registering for th
 is event\, in order to receive your discount.
DTSTART:20200218T233000Z
DTEND:20200219T013000Z
DTSTAMP:20260424T131513Z
ORGANIZER;CN=PMI Central Mississippi Chapter:MAILTO:vpfinance@pmicms.org
END:VEVENT
END:VCALENDAR