BEGIN:VCALENDAR
VERSION:2.0
PRODID:Events Booking
BEGIN:VEVENT
UID:69e9613834b49
SUMMARY:December 2021 Online Chapter Meeting
DESCRIPTION:2021 PMI Central Mississippi Chapter - Annual Holiday Meeting

  
 Update/recap on the chapter
 Election results
 Recognition of new ce
 rtification holders
 Giveaways\, etc.&nbsp\;
 
DTSTART:20211214T173000Z
DTEND:20211214T185000Z
DTSTAMP:20260423T000056Z
ORGANIZER;CN=PMI Central Mississippi Chapter:MAILTO:vpfinance@pmicms.org
END:VEVENT
END:VCALENDAR