BEGIN:VCALENDAR
VERSION:2.0
PRODID:Events Booking
BEGIN:VEVENT
UID:69e9be82c7194
SUMMARY:August 2021 Online Chapter Meeting
DESCRIPTION:Plandemic - How a Co-Located Scrum Team Adapted to a Virtual Wo
 rk Environment.Stephen will present on agile/scrum approaches used at Sout
 hern Farm Bureau Life Insurance company and how SFBLI adjusted their appro
 ach once COVID-19 affected their work environment and project teams.&nbsp\
 ;&nbsp\;&nbsp\;&nbsp\;
DTSTART:20210817T163000Z
DTEND:20210817T175000Z
DTSTAMP:20260423T063858Z
ORGANIZER;CN=PMI Central Mississippi Chapter:MAILTO:vpfinance@pmicms.org
END:VEVENT
END:VCALENDAR