BEGIN:VCALENDAR
VERSION:2.0
PRODID:Events Booking
BEGIN:VEVENT
UID:69e8af55db769
SUMMARY:August 2022 Online Chapter Meeting
DESCRIPTION:Topic:&nbsp\;Risk Management&nbsp\;Speaker:&nbsp\;Megan Stachow
 iak\, PMI-RMP
 Location:&nbsp\; Online Meeting&nbsp\;(Zoom)Date:&nbsp\; T
 uesday\, 8/30/2022Time:&nbsp\;&nbsp\;7:00 PM - 8:30 PM CDTCost:&nbsp\; Fre
 ePDUs:&nbsp\; 1.0Category:&nbsp\; Ways of Working (formerly Technical Proj
 ect Management)Description:&nbsp\;Join us this month as Megan Stachowiak\,
  a PMI certified Risk Management Professional discusses tools\, techniques
 \, strategies\, and&nbsp\;her experiences in her years as a Project Manage
 r\, specializing in Risk Management.&nbsp\;
DTSTART:20220831T000000Z
DTEND:20220831T013000Z
DTSTAMP:20260422T112157Z
ORGANIZER;CN=PMI Central Mississippi Chapter:MAILTO:vpfinance@pmicms.org
END:VEVENT
END:VCALENDAR