BEGIN:VCALENDAR
VERSION:2.0
PRODID:Events Booking
BEGIN:VEVENT
UID:69e906a3b561f
SUMMARY:April 2022 Online Chapter Meeting
DESCRIPTION:Topic:&nbsp\;Project Management Optimization with the Power of 
 SmartsheetSpeaker:&nbsp\;Michelle Watkins\, PMP\, MBA
 
 Location:&nbsp\
 ; Online Meeting&nbsp\;(Zoom)Date:&nbsp\; Tuesday\, 4/26/2022Time:&nbsp\; 
 6:00 PM - 7:15 PM CDTCost:&nbsp\; FreePDUs:&nbsp\; 1.0Category:TechnicalDe
 scription:As a project manager do you find that you spend 40-50% of your w
 eek doing more administrative work and less project management work? Thing
 s like manually getting updates from your project team and you are solely 
 responsible for updating project plans\, RAID Logs\, and status reports? H
 ow many times have you exchanged stagnant files and wondered which version
  is the truth and then had to comb through all the versions of a file to t
 ry to pull out the current update for your master plan and hope that what 
 you pulled was really the most current?
 Imagine if your project manageme
 nt processes could truly be Scalable\, Repeatable\, Transparent\, Real Tim
 e\, Collaborative\, Integrated\, and Automated. What’s your biggest pain
  point as a project manager when it comes to collaboration? Join Michelle 
 Watkins as she takes you on her 12-year journey with transforming her own 
 day in the life of a project manager powered by Smartsheet in which she ro
 lled out this same solution throughout her own organizations and has since
  spent the last 5 years providing Project Management Optimization solution
 s that has help transform both the project management and PMO Leadership e
 xperience with the power of Smartsheet.”Objectives:- Understand how Smar
 tSheet can help optimize your project management processes.- Discuss your 
 project pain points.- Hear first-hand accounts of how SmartSheet has provi
 ded solutions to organizations
DTSTART:20220426T230000Z
DTEND:20220427T001500Z
DTSTAMP:20260422T173427Z
ORGANIZER;CN=PMI Central Mississippi Chapter:MAILTO:vpfinance@pmicms.org
END:VEVENT
END:VCALENDAR