BEGIN:VCALENDAR
VERSION:2.0
PRODID:Events Booking
BEGIN:VEVENT
UID:69eaec65df8bf
SUMMARY:August 2020 Online Chapter Meeting
DESCRIPTION:
 
 
 
 
 
 
 
 
 
 Speaker:&nbsp\;Jason Agostinelli
 
 
 
 
 
 
 
 
 
 
 
 Topic&nbsp\;–&nbsp\;Managing Client Rela
 tionships: Start to Finish
 Synopsis -&nbsp\;Dale Partners Architects is 
 a full-service architectural firm working nationwide. With offices in Jack
 son and Biloxi MS\, Dale Partners has over 36 years of experience and almo
 st 100 design awards including a \"Top Design Firm\" distinction. During t
 his month's session\, Jason will speak on managing client relationships ba
 sed on his experiences.
 Location -&nbsp\;Online Webcast
 Date:&nbsp\; T
 uesday 8/18/2020
 Time:&nbsp\; 11:30 AM - 12:45 PM
 Online Payment Only 
 - You will be emailed your attendee information after registration.All pro
 ceeds for this event will go towards supporting Ronald McDonald Charites M
 ississippi.
 
 
DTSTART:20200818T163000Z
DTEND:20200818T174500Z
DTSTAMP:20260424T040701Z
ORGANIZER;CN=PMI Central Mississippi Chapter:MAILTO:vpfinance@pmicms.org
END:VEVENT
END:VCALENDAR