BEGIN:VCALENDAR
VERSION:2.0
PRODID:Events Booking
BEGIN:VEVENT
UID:69e899de231c7
SUMMARY:2022 PMICMS Professional Development Day
DESCRIPTION:2022 PMI Central Mississippi ChapterProfessional Development Da
 yFriday\, September 23\, 2022Millsaps CollegeThe PMI CMS Chapter is thrill
 ed to announce that our PDD keynote speaker will be Stevie Ray!&nbsp\; He 
 will be customizing his brain-science based keynote speech \"The&nbsp\; Ro
 admap to Influence\" for us.&nbsp\; You won't want to miss this engaging\,
  humorous approach to learning!
 Learn more here:&nbsp\;https://www.stevi
 erays.org/keynotes-workshops/
 HOTEL INFO - For our out-of-town members w
 ho might need a hotel\, we've got you covered.&nbsp\; Millsaps and Homewoo
 d Suites in Fondren are offering a special rate starting at $109/night if 
 you plan to attend our PDD.&nbsp\; Click here to make your hotel reservati
 ons.&nbsp\; The deadline for reservations is Monday\, September 19\, 2022.
 &nbsp\;&nbsp\;
 Hotel: Homewood Suites by Hilton Jackson Fondren Medical 
 District
LOCATION:Millsaps College\,1701 N State St\, Jackson\, MS 39210\, USA
DTSTART:20220923T130000Z
DTEND:20220923T220000Z
DTSTAMP:20220615T042001Z
ORGANIZER;CN=PMI Central Mississippi Chapter:MAILTO:vpfinance@pmicms.org
GEO:32.321587;-90.180218
X-APPLE-STRUCTURED-LOCATION;VALUE=URI;X-ADDRESS=Millsaps College\,1701 N St
 ate St\, Jackson\, MS 39210\, USA;X-APPLE-RADIUS=72;X-TITLE=Millsaps Colle
 ge:32.321587;-90.180218
END:VEVENT
END:VCALENDAR