BEGIN:VCALENDAR
VERSION:2.0
PRODID:Events Booking
BEGIN:VEVENT
UID:69e85af39de9d
SUMMARY:2022 December Holiday Meeting
DESCRIPTION:&nbsp\;2022 PMICMS In-Person December Holiday MeetingJoin us fo
 r a fun night of bowling\, food\, fun and fellowship!Location:&nbsp\;&nbsp
 \;Highball Lanes\,&nbsp\;3019 N STATE ST.&nbsp\;JACKSON\,&nbsp\;MS&nbsp\;3
 9216Date:&nbsp\;&nbsp\;Tuesday\, 12/13/2022Time:&nbsp\;&nbsp\;5:30 PM - 8:
 30 PM CDTCost: FreeTarget Audience:&nbsp\;Members\, Family and Friends
 R
 egistration is open\,&nbsp\;Register TodayYou should receive a post-regist
 ration confirmation email.&nbsp\;&nbsp\;Please be sure to check the email 
 address you used during the meeting registration process.
LOCATION:3019 N State St\, Jackson\, MS 39216\, USA
DTSTART:20221213T233000Z
DTEND:20221214T023000Z
DTSTAMP:20221121T072635Z
ORGANIZER;CN=PMI Central Mississippi Chapter:MAILTO:vpfinance@pmicms.org
GEO:32.33607;-90.176771
X-APPLE-STRUCTURED-LOCATION;VALUE=URI;X-ADDRESS=3019 N State St\, Jackson\,
  MS 39216\, USA;X-APPLE-RADIUS=72;X-TITLE=Highball Lanes:32.33607;-90.1767
 71
END:VEVENT
END:VCALENDAR