BEGIN:VCALENDAR
VERSION:2.0
PRODID:Events Booking
BEGIN:VEVENT
UID:69e9a657f0d44
SUMMARY:2021 PMI Professional Development Days
DESCRIPTION:2021 PMI Professional Development DaysRegistration is Now Close
 d for this EventThank you everyone who registered and we will see you next
  Wednesday\, 9/22/2021!Our event seeks to help project pros to fully embra
 ce change in this post-2020 Project Economy in a virtual 2-day professiona
 l development event in partnership with PMI chapters in Region 5\, 6 and 1
 4.
 &nbsp\;
DTSTART:20210922T140000Z
DTEND:20210923T100000Z
DTSTAMP:20260423T045551Z
ORGANIZER;CN=PMI Central Mississippi Chapter:MAILTO:vpfinance@pmicms.org
END:VEVENT
END:VCALENDAR