BEGIN:VCALENDAR
VERSION:2.0
PRODID:Events Booking
BEGIN:VEVENT
UID:69eb8485dea3d
SUMMARY:202001 January Lunch Meeting 
DESCRIPTION:&nbsp\;
 &nbsp\;
 Speaker&nbsp\;– Marlin \"Moon\" Mullins

  Topic&nbsp\;– Building a New Project Management Organization from Scrat
 ch
 Synopsis - We recently set up a new project management organization i
 n Distribution from scratch – this presentation is a compilation of some
  lessons learned from that process.
 Location -&nbsp\;Walker’s Drive-In
 &nbsp\;
 Date - 1/21/2020
 Time - 11:30 AM
 &nbsp\;
LOCATION:3016 N State St\, Jackson\, MS 39216\, USA
DTSTART:20200121T173000Z
DTEND:20200121T184500Z
DTSTAMP:20260424T145605Z
ORGANIZER;CN=PMI Central Mississippi Chapter:MAILTO:vpfinance@pmicms.org
GEO:32.335318;-90.176332
X-APPLE-STRUCTURED-LOCATION;VALUE=URI;X-ADDRESS=3016 N State St\, Jackson\,
  MS 39216\, USA;X-APPLE-RADIUS=72;X-TITLE=Walker's Drive In:32.335318;-90.
 176332
END:VEVENT
END:VCALENDAR