BEGIN:VCALENDAR
VERSION:2.0
PRODID:Events Booking
BEGIN:VEVENT
UID:69eb9fa9a7046
SUMMARY:201912 Annual Christmas Meeting 
DESCRIPTION:
LOCATION:605 Duling Ave\, Jackson\, MS 39216\, USA
DTSTART:20191211T003000Z
DTEND:20191211T020000Z
DTSTAMP:20260424T165153Z
ORGANIZER;CN=PMI Central Mississippi Chapter:MAILTO:vpfinance@pmicms.org
GEO:32.335714;-90.176173
X-APPLE-STRUCTURED-LOCATION;VALUE=URI;X-ADDRESS=605 Duling Ave\, Jackson\, 
 MS 39216\, USA;X-APPLE-RADIUS=72;X-TITLE=Salsa Mississippi Club and Studio
 :32.335714;-90.176173
END:VEVENT
END:VCALENDAR