BEGIN:VCALENDAR
VERSION:2.0
PRODID:Events Booking
BEGIN:VEVENT
UID:69ebba1360d58
SUMMARY:201911 PMP Boot Camp November 2019
DESCRIPTION:
 If you are already a PMI and PMI Central Mississippi Chapter
  member\, please login above&nbsp\;(MEMBER LOGIN)&nbsp\;to receive the mem
 bership discount.&nbsp\;
 Payments* made by check&nbsp\;should be mailed 
 to:PMI Central Mississippi ChapterAttn: November 2019 PMP BootcampP. O. Bo
 x 2452Ridgeland\, MS 39158.&nbsp\; *If payment is not received by October 
 22\, 2019\, your course registration will be subject to cancellation. &nbs
 p\;Please contact Monte Luehlfing if other arrangements are needed regardi
 ng the cut-off date.NOTICE:&nbsp\;The PMP Bootcamp for November 2019 is a 
 total of 4 days. &nbsp\;The days are set for November 4th through 7th. Thi
 s is an&nbsp\;afternoon/evening class to be held&nbsp\;from 1:00pm to 9:00
 pm each day.
 DISCLAIMER:&nbsp\;The class requires a minimun of 3 confirm
 ed registrants and is subject to cancellation in the event the mininum num
 ber of registrants is not met.
 Location: 
 Cabot Lodge\, Millsaps
 237
 5 North State Street
 Jackson\, MS 39202
 www.cabotlodgemillsaps.com
LOCATION:2375 N State St\, Jackson\, MS 39202\, USA
DTSTART:20191104T190000Z
DTEND:20191108T030000Z
DTSTAMP:20260424T184435Z
ORGANIZER;CN=PMI Central Mississippi Chapter:MAILTO:vpfinance@pmicms.org
GEO:32.325328;-90.17674
X-APPLE-STRUCTURED-LOCATION;VALUE=URI;X-ADDRESS=2375 N State St\, Jackson\,
  MS 39202\, USA;X-APPLE-RADIUS=72;X-TITLE=Cabot Lodge:32.325328;-90.17674
END:VEVENT
END:VCALENDAR