BEGIN:VCALENDAR
VERSION:2.0
PRODID:Events Booking
BEGIN:VEVENT
UID:69ebbc97382eb
SUMMARY:201911 November Dinner Meeting 
DESCRIPTION:
 &nbsp\;
 Speaker: George Hoff
 Topic: Driving Acceptance

  Location: Amerigo in Flowood
 Start Time: 5:30 PM
 Cost: $30 for Non-Me
 mbers\; $25 for Members\; $30 for all at the door.
LOCATION:Market St\, Flowood\, MS 39232\, USA
DTSTART:20191112T233000Z
DTEND:20191113T020000Z
DTSTAMP:20260424T185519Z
ORGANIZER;CN=PMI Central Mississippi Chapter:MAILTO:vpfinance@pmicms.org
GEO:32.336495;-90.067094
X-APPLE-STRUCTURED-LOCATION;VALUE=URI;X-ADDRESS=Market St\, Flowood\, MS 39
 232\, USA;X-APPLE-RADIUS=72;X-TITLE=Amerigo Restaurant in Flowood:32.33649
 5;-90.067094
END:VEVENT
END:VCALENDAR