BEGIN:VCALENDAR
VERSION:2.0
PRODID:Events Booking
BEGIN:VEVENT
UID:69ebd6ec13825
SUMMARY:201910 October Lunch Meeting 
DESCRIPTION:&nbsp\;
 
 Speaker&nbsp\;– Consuela Shorter
 Topic&nbsp\;
 –&nbsp\; HR Savvy &amp\; Strategy Smart\, 20/20 Vision in an age of Tran
 sformation
 Synopsis -&nbsp\;This presentation will focus on HR's role in
  setting and supporting strategy through initiatives that drive organizati
 onal performance and productivity through people\, process\, and technolog
 y. The role of HR in organizations is no longer managing transactions\; it
 's role is to transform the operating model of today into the model for th
 e future. Understanding the workplace and implementing new technology solu
 tions may be putting the cart before the horse. Leading HR initiatives for
  today start with imagining the workplace of the future in a way that seek
 s to strengthen\, and maybe even rebuild\, the structure to support sustai
 nability\, growth and expansion\, and competitiveness. What group is more 
 poised to lead this transformation of mind and matter than Project Manager
 s? How is your HR organization poised to meet this challenge and drive pro
 ject management success?
 Location -&nbsp\;Walker’s Drive-In lower leve
 l room
 Date - 10/15/19
 Time - 11:30 AM
 &nbsp\;
LOCATION:3016 N State St\, Jackson\, MS 39216\, USA
DTSTART:20191015T163000Z
DTEND:20191015T174500Z
DTSTAMP:20260424T204740Z
ORGANIZER;CN=PMI Central Mississippi Chapter:MAILTO:vpfinance@pmicms.org
GEO:32.335318;-90.176332
X-APPLE-STRUCTURED-LOCATION;VALUE=URI;X-ADDRESS=3016 N State St\, Jackson\,
  MS 39216\, USA;X-APPLE-RADIUS=72;X-TITLE=Walker's Drive In:32.335318;-90.
 176332
END:VEVENT
END:VCALENDAR