BEGIN:VCALENDAR
VERSION:2.0
PRODID:Events Booking
BEGIN:VEVENT
UID:69ec009c103c3
SUMMARY:201908 August Lunch Meeting
DESCRIPTION:&nbsp\;
 Speaker&nbsp\;– Dr. Ray Grubbs
 Topic&nbsp\;–&nb
 sp\; Leaders and Culture in Jackson\, MS
 Synopsis -&nbsp\;Corporate cult
 ure has evolved significantly over the last 20+ years in Mississippi (and 
 beyond). Leaders in the private and public sectors are engaging consultant
 s to build a high performing workforce and develop future leaders. &nbsp\;
 I will share the learnings of the changing trends that I have observed in 
 my mentor/coaching role to senior leaders in the state and provide insight
 s on what techniques could be beneficial as chapter members strive to beco
 me better leaders/Project Managers.
 Location -&nbsp\;Walker’s Drive-In
 
 Date - 8/20/19
 Time - 11:30 AM
 &nbsp\;
LOCATION:3016 N State St\, Jackson\, MS 39216\, USA
DTSTART:20190820T163000Z
DTEND:20190820T174500Z
DTSTAMP:20260424T234532Z
ORGANIZER;CN=PMI Central Mississippi Chapter:MAILTO:vpfinance@pmicms.org
GEO:32.335318;-90.176332
X-APPLE-STRUCTURED-LOCATION;VALUE=URI;X-ADDRESS=3016 N State St\, Jackson\,
  MS 39216\, USA;X-APPLE-RADIUS=72;X-TITLE=Walker's Drive In:32.335318;-90.
 176332
END:VEVENT
END:VCALENDAR