BEGIN:VCALENDAR
VERSION:2.0
PRODID:Events Booking
BEGIN:VEVENT
UID:69ec1f1b4c2c0
SUMMARY:201907 July Dinner Meeting
DESCRIPTION:Speaker: Liz Willamson
 Topic: Conflict Management Techniques
 
 Location: Biaggi's
 Start Time: 5:30 PM
 Cost: $30 for Non-Members\; $
 25 for Members\; $30 for all at the door.
LOCATION:970 Highland Colony Pkwy\, Ridgeland\, MS 39157\, USA
DTSTART:20190716T223000Z
DTEND:20190717T010000Z
DTSTAMP:20260425T015539Z
ORGANIZER;CN=PMI Central Mississippi Chapter:MAILTO:vpfinance@pmicms.org
GEO:32.431937;-90.148144
X-APPLE-STRUCTURED-LOCATION;VALUE=URI;X-ADDRESS=970 Highland Colony Pkwy\, 
 Ridgeland\, MS 39157\, USA;X-APPLE-RADIUS=72;X-TITLE=Biaggi's:32.431937;-9
 0.148144
END:VEVENT
END:VCALENDAR