BEGIN:VCALENDAR
VERSION:2.0
PRODID:Events Booking
BEGIN:VEVENT
UID:69ec3d53a6b7a
SUMMARY:201906 June Lunch Meeting
DESCRIPTION:
 Speaker&nbsp\;– Terrence Black\,&nbsp\;MBA\, SHRM-SCP
 Co
 mpany&nbsp\;– Entergy – Grand Gulf Nuclear Station &nbsp\;&nbsp\;Title
 : Manager\, HR Business Partner
 Topic&nbsp\;– &nbsp\;“Generational D
 ifferences in the Workplace – Impact to Project Management/Leadership”
 
 Location -&nbsp\;Walker’s Drive-In
 Date - 6/18/19
 Time - 11:30 AM
 
 &nbsp\;
DTSTART:20190618T163000Z
DTEND:20190618T174500Z
DTSTAMP:20260425T040435Z
ORGANIZER;CN=PMI Central Mississippi Chapter:MAILTO:vpfinance@pmicms.org
END:VEVENT
END:VCALENDAR