BEGIN:VCALENDAR
VERSION:2.0
PRODID:Events Booking
BEGIN:VEVENT
UID:69ecc7bd4b6e7
SUMMARY:201901 January Dinner Meeting
DESCRIPTION:
 “ The Role of an Effective PMO in Successful Project and P
 rogram Delivery”
 
 Join us for a lively and interactive session on th
 e role of the PMO in large and small organizations to drive value through 
 project delivery.&nbsp\;
 &nbsp\;
 &nbsp\;
 Often PMO professionals sne
 er at the idea of the PMO offering pure administrative support only\, but 
 these and other PMO functions are often highly valued by project managers 
 and project teams\; especially where these skills may otherwise be lacking
  on the team. The type of PMO structure may need to be considered for opti
 mum value.&nbsp\;
 &nbsp\;
 We will consider the role an effective PMO c
 an play in driving and supporting successful delivery at all levels of the
  organization and how the business and project leaders engage with the PMO
  and identify how best to assist delivery within the context of other role
 s across the organization (e.g. product development\, transition teams\, H
 R\, etc.).
 &nbsp\;
 Don’t miss the opportunity to share your experien
 ce and learn how to drive greater value in your own organization. We look 
 forward to seeing you there.&nbsp\;
LOCATION:Market St\, Flowood\, MS 39232\, USA
DTSTART:20190115T233000Z
DTEND:20190116T010000Z
DTSTAMP:20260425T135509Z
ORGANIZER;CN=PMI Central Mississippi Chapter:MAILTO:vpfinance@pmicms.org
GEO:32.336495;-90.067094
X-APPLE-STRUCTURED-LOCATION;VALUE=URI;X-ADDRESS=Market St\, Flowood\, MS 39
 232\, USA;X-APPLE-RADIUS=72;X-TITLE=Amerigo Restaurant in Flowood:32.33649
 5;-90.067094
END:VEVENT
END:VCALENDAR