BEGIN:VCALENDAR
VERSION:2.0
PRODID:Events Booking
BEGIN:VEVENT
UID:69ecde8c4ea45
SUMMARY:201812 Annual Christmas Meeting
DESCRIPTION:
LOCATION: 339 W Peace St Canton\, MS 39046
DTSTART:20181211T233000Z
DTEND:20181212T010000Z
DTSTAMP:20260425T153228Z
ORGANIZER;CN=PMI Central Mississippi Chapter:MAILTO:vpfinance@pmicms.org
GEO:32.612328;-90.038888
X-APPLE-STRUCTURED-LOCATION;VALUE=URI;X-ADDRESS= 339 W Peace St Canton\, MS
  39046;X-APPLE-RADIUS=72;X-TITLE=Rich Grain Distilling Co.:32.612328;-90.0
 38888
END:VEVENT
END:VCALENDAR