BEGIN:VCALENDAR
VERSION:2.0
PRODID:Events Booking
BEGIN:VEVENT
UID:69ecf924d783d
SUMMARY:201811 November Dinner Meeting 
DESCRIPTION:Special Forum
 Topic:&nbsp\; ERP (Enterprise Resource Planning
 )
 Synopsis: November is&nbsp\;All Things ERP&nbsp\;month at your PMI Cen
 tral Mississippi Chapter.&nbsp\; For our dinner meeting this month\, we wi
 ll host a forum on ERP (enterprise resource planning).&nbsp\; Are you impl
 ementing an ERP system\, considering changing systems\, managing your proj
 ects through an integrated ERP system currently\, or have you previously i
 mplemented an ERP?&nbsp\; The forum will feature experts from Sierra-Cedar
 \, Inc\, one of the largest independent North American IT services compani
 es\, project managers and stakeholders currently implementing Workday for 
 a $1.6b organization\, and YOU.&nbsp\; Requirements management\, stakehold
 er engagement\, staffing\, complexity\, change management\, co-located pro
 ject teams\, and&nbsp\;All Things ERP&nbsp\;are on the agenda!&nbsp\; &nbs
 p\;Join the discussion or just take notes – this forum will offer someth
 ing for everyone.
LOCATION:1200 N State St\, Jackson\, MS 39202\, USA
DTSTART:20181113T233000Z
DTEND:20181114T010000Z
DTSTAMP:20260425T172556Z
ORGANIZER;CN=PMI Central Mississippi Chapter:MAILTO:vpfinance@pmicms.org
GEO:32.314436;-90.177814
X-APPLE-STRUCTURED-LOCATION;VALUE=URI;X-ADDRESS=1200 N State St\, Jackson\,
  MS 39202\, USA;X-APPLE-RADIUS=72;X-TITLE=The Manship:32.314436;-90.177814
END:VEVENT
END:VCALENDAR