BEGIN:VCALENDAR
VERSION:2.0
PRODID:Events Booking
BEGIN:VEVENT
UID:69ed0de6d93ef
SUMMARY:201810 October Dinner Meeting
DESCRIPTION:Speaker: Craig Sparks
 Topic:&nbsp\; Barriers to Innovation in
  Product &amp\; Technology Development: A View from the Telecommunications
  Industry
 Synopsis: Innovation is the life blood of the telecommunicatio
 n service industry.&nbsp\; Highly dependent upon it\, the problems we solv
 e for our customers and the value we ultimately deliver to them sits on in
 novation as a foundation. However\, so often we can’t get out of our own
  way and let it flourish. Old ways of thinking\, silos and lack of effecti
 ve collaboration are often as harmful as hanging on to outdated processes 
 and management styles.&nbsp\; These and other barriers from the perspectiv
 e time spent in the telecommunications industry will be discussed along wi
 th an open follow up discussion.
LOCATION:1200 N State St\, Jackson\, MS 39202\, USA
DTSTART:20181016T223000Z
DTEND:20181017T000000Z
DTSTAMP:20260425T185430Z
ORGANIZER;CN=PMI Central Mississippi Chapter:MAILTO:vpfinance@pmicms.org
GEO:32.314436;-90.177814
X-APPLE-STRUCTURED-LOCATION;VALUE=URI;X-ADDRESS=1200 N State St\, Jackson\,
  MS 39202\, USA;X-APPLE-RADIUS=72;X-TITLE=The Manship:32.314436;-90.177814
END:VEVENT
END:VCALENDAR