BEGIN:VCALENDAR
VERSION:2.0
PRODID:Events Booking
BEGIN:VEVENT
UID:69ed55d76b8bd
SUMMARY:201807 July Dinner Meeting    
DESCRIPTION:July 17\, 2018PMI Central Mississippi Monthly Dinner MeetingThe
  PMI Central Mississippi Chapter Dinner meeting will be held on&nbsp\;Tues
 day\, July 17\, 2018 . Surin of Thailand\, Jackson\, MS.Registration Deadl
 ine:&nbsp\; Tuesday\, July 17\, 2018 at 12:00PM.&nbsp\;&nbsp\;&nbsp\;Regis
 tration and Networking begins at 5:30PM\, Business/Dinner at 6:00PM and Pr
 ogram at 6:15PM.See the attached&nbsp\;menu for Surin of Thailand (in PDF 
 format)
LOCATION:3000 Old Canton Rd #105\, Jackson\, MS 39216\, USA
DTSTART:20180717T223000Z
DTEND:20180718T000000Z
DTSTAMP:20260426T000127Z
ORGANIZER;CN=PMI Central Mississippi Chapter:MAILTO:vpfinance@pmicms.org
GEO:32.334689;-90.173687
X-APPLE-STRUCTURED-LOCATION;VALUE=URI;X-ADDRESS=3000 Old Canton Rd #105\, J
 ackson\, MS 39216\, USA;X-APPLE-RADIUS=72;X-TITLE=Surin of Thailand:32.334
 689;-90.173687
END:VEVENT
END:VCALENDAR