BEGIN:VCALENDAR
VERSION:2.0
PRODID:Events Booking
BEGIN:VEVENT
UID:69ed2456bb864
SUMMARY:201806 PMP Boot Camp September 2018  
DESCRIPTION:
 If you are already a PMI and PMI Central Mississippi Chapter
  member\, please login above&nbsp\;(MEMBER LOGIN)&nbsp\;to receive the mem
 bership discount.&nbsp\;
 Payments* made by check&nbsp\;should be mailed 
 to:PMI Central Mississippi ChapterAttn: September 2018 PMP BootcampP. O. B
 ox 2452Ridgeland\, MS 39158.&nbsp\; *If payment is not received by Septemb
 er 2\, 2018\, your course registration will be subject to cancellation. &n
 bsp\;Please contact Roxanne Anderson if other arrangements are needed rega
 rding the cut-off date.NOTICE:&nbsp\;The PMP Bootcamp for September 2018 i
 s a total of 4 days. &nbsp\;The days are set for September 17th through 20
 th. This is an&nbsp\;afternoon/evening class to be held&nbsp\;from 1:00pm 
 to 9:00pm each day.
 DISCLAIMER:&nbsp\;The class requires a minimun of 3 
 confirmed registrants and is subject to cancellation in the event the mini
 num number of registrants is not met.
DTSTART:20180917T180000Z
DTEND:20180921T020000Z
DTSTAMP:20260425T203014Z
ORGANIZER;CN=PMI Central Mississippi Chapter:MAILTO:vpfinance@pmicms.org
END:VEVENT
END:VCALENDAR