BEGIN:VCALENDAR
VERSION:2.0
PRODID:Events Booking
BEGIN:VEVENT
UID:69ed72e3a417a
SUMMARY:201806 June Networking Meeting    
DESCRIPTION:June 19\, 2018PMI Central Mississippi Monthly Dinner MeetingThe
  PMI Central Mississippi Chapter Dinner meeting will be held on&nbsp\;Tues
 day\, June 19\, 2018 . Iron Horse Grill\, Jackson\, MS.Registration Deadli
 ne:&nbsp\; Tuesday\, June 19\, 2018 at 12:00PM.&nbsp\;&nbsp\;&nbsp\;Regist
 ration and Networking begins at 5:30PM.
LOCATION:320 W Pearl St\, Jackson\, MS 39203\, USA
DTSTART:20180619T223000Z
DTEND:20180620T000000Z
DTSTAMP:20260426T020523Z
ORGANIZER;CN=PMI Central Mississippi Chapter:MAILTO:vpfinance@pmicms.org
GEO:32.299957;-90.192022
X-APPLE-STRUCTURED-LOCATION;VALUE=URI;X-ADDRESS=320 W Pearl St\, Jackson\, 
 MS 39203\, USA;X-APPLE-RADIUS=72;X-TITLE=Iron Horse Grill:32.299957;-90.19
 2022
END:VEVENT
END:VCALENDAR